BEGIN:VCALENDAR
VERSION:2.0
PRODID:-//eventon.com NONSGML v1.0//EN
BEGIN:VEVENT
UID:69e9def010dc2
DTSTAMP:20260423T085720
DTSTART:20260403T014000Z
DTEND:20260402T224200Z
TZID:America/Denver
LOCATION:
SUMMARY:Arabic spelling Bee competition
DESCRIPTION: Arabic spelling Bee competition\nhttps://www.azacademy.org/events/arabic-spelling-bee-competition/
URL:https://www.azacademy.org/events/arabic-spelling-bee-competition/
END:VEVENT
END:VCALENDAR