BEGIN:VCALENDAR
VERSION:2.0
PRODID:-//eventon.com NONSGML v1.0//EN
BEGIN:VEVENT
UID:69e5e32daa1b5
DTSTAMP:20260420T082621
DTSTART:20260327T183900Z
DTEND:20260327T183900Z
TZID:America/Denver
LOCATION:
SUMMARY:PTA Eid Festival
DESCRIPTION: PTA Eid Festival\nhttps://www.azacademy.org/events/pta-eid-festival/
URL:https://www.azacademy.org/events/pta-eid-festival/
END:VEVENT
END:VCALENDAR