BEGIN:VCALENDAR
VERSION:2.0
PRODID:-//eventon.com NONSGML v1.0//EN
BEGIN:VEVENT
UID:69e9dbf4bf390
DTSTAMP:20260423T084436
DTSTART:20250911
DTEND:20250910
TZID:America/Denver
LOCATION:
SUMMARY:SMCC Dual Enrollment Visit
DESCRIPTION: For 10th through 12th grade\nhttps://www.azacademy.org/events/smcc-dual-enrollment-visit/
URL:https://www.azacademy.org/events/smcc-dual-enrollment-visit/
END:VEVENT
END:VCALENDAR