BEGIN:VCALENDAR
VERSION:2.0
PRODID:-//eventon.com NONSGML v1.0//EN
BEGIN:VEVENT
UID:69e5e37f0664f
DTSTAMP:20260420T082743
DTSTART:20251222T070000Z
DTEND:20260103T065900Z
TZID:America/Denver
LOCATION:
SUMMARY:Winter Break
DESCRIPTION: Winter Break\nhttps://www.azacademy.org/events/winter-break/
URL:https://www.azacademy.org/events/winter-break/
END:VEVENT
END:VCALENDAR